BEGIN:VCALENDAR
VERSION:2.0
PRODID:-//Ödenäs Idrottsförening - ECPv6.15.20//NONSGML v1.0//EN
CALSCALE:GREGORIAN
METHOD:PUBLISH
X-ORIGINAL-URL:https://odenasif.se
X-WR-CALDESC:Händelser för Ödenäs Idrottsförening
REFRESH-INTERVAL;VALUE=DURATION:PT1H
X-Robots-Tag:noindex
X-PUBLISHED-TTL:PT1H
BEGIN:VTIMEZONE
TZID:Europe/Stockholm
BEGIN:DAYLIGHT
TZOFFSETFROM:+0100
TZOFFSETTO:+0200
TZNAME:CEST
DTSTART:20250330T010000
END:DAYLIGHT
BEGIN:STANDARD
TZOFFSETFROM:+0200
TZOFFSETTO:+0100
TZNAME:CET
DTSTART:20251026T010000
END:STANDARD
BEGIN:DAYLIGHT
TZOFFSETFROM:+0100
TZOFFSETTO:+0200
TZNAME:CEST
DTSTART:20260329T010000
END:DAYLIGHT
BEGIN:STANDARD
TZOFFSETFROM:+0200
TZOFFSETTO:+0100
TZNAME:CET
DTSTART:20261025T010000
END:STANDARD
BEGIN:DAYLIGHT
TZOFFSETFROM:+0100
TZOFFSETTO:+0200
TZNAME:CEST
DTSTART:20270328T010000
END:DAYLIGHT
BEGIN:STANDARD
TZOFFSETFROM:+0200
TZOFFSETTO:+0100
TZNAME:CET
DTSTART:20271031T010000
END:STANDARD
END:VTIMEZONE
BEGIN:VEVENT
DTSTART;TZID=Europe/Stockholm:20260801T180000
DTEND;TZID=Europe/Stockholm:20260801T200000
DTSTAMP:20260421T183949
CREATED:20251026T215831Z
LAST-MODIFIED:20260112T074840Z
UID:10495-1785607200-1785614400@odenasif.se
SUMMARY:Herrbastu
DESCRIPTION:Varje lördag är Tallåsens herr-bastu öppen mellan kl. 18-20.\nBastuavgiften är 500:- per år eller 40:- per gång\, välkomna!
URL:https://odenasif.se/event/herrbastu-i-tallasen-35/
LOCATION:Tallåsen\, Ödenäs 655\, Alingsås\, 441 95\, Sweden
CATEGORIES:Tallåsen
END:VEVENT
END:VCALENDAR