BEGIN:VCALENDAR
VERSION:2.0
PRODID:-//Ödenäs Idrottsförening - ECPv6.15.20//NONSGML v1.0//EN
CALSCALE:GREGORIAN
METHOD:PUBLISH
X-ORIGINAL-URL:https://odenasif.se
X-WR-CALDESC:Händelser för Ödenäs Idrottsförening
REFRESH-INTERVAL;VALUE=DURATION:PT1H
X-Robots-Tag:noindex
X-PUBLISHED-TTL:PT1H
BEGIN:VTIMEZONE
TZID:Europe/Stockholm
BEGIN:DAYLIGHT
TZOFFSETFROM:+0100
TZOFFSETTO:+0200
TZNAME:CEST
DTSTART:20250330T010000
END:DAYLIGHT
BEGIN:STANDARD
TZOFFSETFROM:+0200
TZOFFSETTO:+0100
TZNAME:CET
DTSTART:20251026T010000
END:STANDARD
BEGIN:DAYLIGHT
TZOFFSETFROM:+0100
TZOFFSETTO:+0200
TZNAME:CEST
DTSTART:20260329T010000
END:DAYLIGHT
BEGIN:STANDARD
TZOFFSETFROM:+0200
TZOFFSETTO:+0100
TZNAME:CET
DTSTART:20261025T010000
END:STANDARD
BEGIN:DAYLIGHT
TZOFFSETFROM:+0100
TZOFFSETTO:+0200
TZNAME:CEST
DTSTART:20270328T010000
END:DAYLIGHT
BEGIN:STANDARD
TZOFFSETFROM:+0200
TZOFFSETTO:+0100
TZNAME:CET
DTSTART:20271031T010000
END:STANDARD
END:VTIMEZONE
BEGIN:VEVENT
DTSTART;TZID=Europe/Stockholm:20260606T180000
DTEND;TZID=Europe/Stockholm:20260606T200000
DTSTAMP:20260421T171456
CREATED:20251026T215820Z
LAST-MODIFIED:20260112T074832Z
UID:10487-1780768800-1780776000@odenasif.se
SUMMARY:Herrbastu
DESCRIPTION:Varje lördag är Tallåsens herr-bastu öppen mellan kl. 18-20.\nBastuavgiften är 500:- per år eller 40:- per gång\, välkomna!
URL:https://odenasif.se/event/herrbastu-i-tallasen-27/
LOCATION:Tallåsen\, Ödenäs 655\, Alingsås\, 441 95\, Sweden
CATEGORIES:Tallåsen
END:VEVENT
BEGIN:VEVENT
DTSTART;TZID=Europe/Stockholm:20260607T190000
DTEND;TZID=Europe/Stockholm:20260607T200000
DTSTAMP:20260421T171456
CREATED:20260123T130044Z
LAST-MODIFIED:20260126T144239Z
UID:16631-1780858800-1780862400@odenasif.se
SUMMARY:Träning - Cirkelträning
DESCRIPTION:Barn och vuxna välkomna!
URL:https://odenasif.se/event/dans-styrka-cirkeltraning-32/
LOCATION:Tallåsen\, Ödenäs 655\, Alingsås\, 441 95\, Sweden
CATEGORIES:Dans,Styrka,Tallåsen,Träningar
END:VEVENT
BEGIN:VEVENT
DTSTART;TZID=Europe/Stockholm:20260608T170000
DTEND;TZID=Europe/Stockholm:20260608T180000
DTSTAMP:20260421T171456
CREATED:20251217T181557Z
LAST-MODIFIED:20251217T181557Z
UID:13437-1780938000-1780941600@odenasif.se
SUMMARY:Bordtennis - ungdomar
DESCRIPTION:Välkomna!
URL:https://odenasif.se/event/bordtennis-ungdomar-33/
LOCATION:Tallåsen\, Ödenäs 655\, Alingsås\, 441 95\, Sweden
CATEGORIES:Bordtennis,Tallåsen,Träningar
END:VEVENT
BEGIN:VEVENT
DTSTART;TZID=Europe/Stockholm:20260608T180000
DTEND;TZID=Europe/Stockholm:20260608T193000
DTSTAMP:20260421T171456
CREATED:20251217T180646Z
LAST-MODIFIED:20260120T134146Z
UID:13396-1780941600-1780947000@odenasif.se
SUMMARY:Bordtennis - seniorer
DESCRIPTION:Välkomna!
URL:https://odenasif.se/event/bordtennis-vuxna-33/
LOCATION:Tallåsen\, Ödenäs 655\, Alingsås\, 441 95\, Sweden
CATEGORIES:Bordtennis,Tallåsen,Träningar
END:VEVENT
BEGIN:VEVENT
DTSTART;TZID=Europe/Stockholm:20260609T173000
DTEND;TZID=Europe/Stockholm:20260609T181500
DTSTAMP:20260421T171456
CREATED:20251027T073012Z
LAST-MODIFIED:20251217T155443Z
UID:10618-1781026200-1781028900@odenasif.se
SUMMARY:Barnträning
DESCRIPTION:Barnträning-  åldrar 5-10 år  Vi leker\, övar på bollhantering och har roligt!
URL:https://odenasif.se/event/barntraning-33/
LOCATION:Tallåsen\, Ödenäs 655\, Alingsås\, 441 95\, Sweden
CATEGORIES:Barnträning,Tallåsen,Träningar
END:VEVENT
BEGIN:VEVENT
DTSTART;TZID=Europe/Stockholm:20260611T170000
DTEND;TZID=Europe/Stockholm:20260611T180000
DTSTAMP:20260421T171456
CREATED:20251027T080117Z
LAST-MODIFIED:20251217T153526Z
UID:10725-1781197200-1781200800@odenasif.se
SUMMARY:Bordtennis - ungdomar
DESCRIPTION:Välkomna!
URL:https://odenasif.se/event/bordtennis-33/
LOCATION:Tallåsen\, Ödenäs 655\, Alingsås\, 441 95\, Sweden
CATEGORIES:Bordtennis,Tallåsen,Träningar
END:VEVENT
BEGIN:VEVENT
DTSTART;TZID=Europe/Stockholm:20260611T180000
DTEND;TZID=Europe/Stockholm:20260611T193000
DTSTAMP:20260421T171456
CREATED:20251217T154532Z
LAST-MODIFIED:20251217T154848Z
UID:13313-1781200800-1781206200@odenasif.se
SUMMARY:Bordtennis - vuxna
DESCRIPTION:Välkomna!
URL:https://odenasif.se/event/bordtennistraning-33/
LOCATION:Tallåsen\, Ödenäs 655\, Alingsås\, 441 95\, Sweden
CATEGORIES:Bordtennis,Tallåsen,Träningar
END:VEVENT
BEGIN:VEVENT
DTSTART;TZID=Europe/Stockholm:20260613T180000
DTEND;TZID=Europe/Stockholm:20260613T200000
DTSTAMP:20260421T171456
CREATED:20251026T215820Z
LAST-MODIFIED:20260112T074840Z
UID:10488-1781373600-1781380800@odenasif.se
SUMMARY:Herrbastu
DESCRIPTION:Varje lördag är Tallåsens herr-bastu öppen mellan kl. 18-20.\nBastuavgiften är 500:- per år eller 40:- per gång\, välkomna!
URL:https://odenasif.se/event/herrbastu-i-tallasen-28/
LOCATION:Tallåsen\, Ödenäs 655\, Alingsås\, 441 95\, Sweden
CATEGORIES:Tallåsen
END:VEVENT
BEGIN:VEVENT
DTSTART;TZID=Europe/Stockholm:20260614T190000
DTEND;TZID=Europe/Stockholm:20260614T200000
DTSTAMP:20260421T171456
CREATED:20260123T130045Z
LAST-MODIFIED:20260126T144251Z
UID:16632-1781463600-1781467200@odenasif.se
SUMMARY:Träning - Cirkelträning
DESCRIPTION:Barn och vuxna välkomna!
URL:https://odenasif.se/event/dans-styrka-cirkeltraning-33/
LOCATION:Tallåsen\, Ödenäs 655\, Alingsås\, 441 95\, Sweden
CATEGORIES:Dans,Styrka,Tallåsen,Träningar
END:VEVENT
BEGIN:VEVENT
DTSTART;TZID=Europe/Stockholm:20260615T170000
DTEND;TZID=Europe/Stockholm:20260615T180000
DTSTAMP:20260421T171456
CREATED:20251217T181558Z
LAST-MODIFIED:20251217T181558Z
UID:13438-1781542800-1781546400@odenasif.se
SUMMARY:Bordtennis - ungdomar
DESCRIPTION:Välkomna!
URL:https://odenasif.se/event/bordtennis-ungdomar-34/
LOCATION:Tallåsen\, Ödenäs 655\, Alingsås\, 441 95\, Sweden
CATEGORIES:Bordtennis,Tallåsen,Träningar
END:VEVENT
BEGIN:VEVENT
DTSTART;TZID=Europe/Stockholm:20260615T180000
DTEND;TZID=Europe/Stockholm:20260615T193000
DTSTAMP:20260421T171456
CREATED:20251217T180647Z
LAST-MODIFIED:20260120T134146Z
UID:13397-1781546400-1781551800@odenasif.se
SUMMARY:Bordtennis - seniorer
DESCRIPTION:Välkomna!
URL:https://odenasif.se/event/bordtennis-vuxna-34/
LOCATION:Tallåsen\, Ödenäs 655\, Alingsås\, 441 95\, Sweden
CATEGORIES:Bordtennis,Tallåsen,Träningar
END:VEVENT
BEGIN:VEVENT
DTSTART;TZID=Europe/Stockholm:20260616T173000
DTEND;TZID=Europe/Stockholm:20260616T181500
DTSTAMP:20260421T171456
CREATED:20251027T073012Z
LAST-MODIFIED:20251217T155443Z
UID:10619-1781631000-1781633700@odenasif.se
SUMMARY:Barnträning
DESCRIPTION:Barnträning-  åldrar 5-10 år  Vi leker\, övar på bollhantering och har roligt!
URL:https://odenasif.se/event/barntraning-34/
LOCATION:Tallåsen\, Ödenäs 655\, Alingsås\, 441 95\, Sweden
CATEGORIES:Barnträning,Tallåsen,Träningar
END:VEVENT
BEGIN:VEVENT
DTSTART;TZID=Europe/Stockholm:20260618T170000
DTEND;TZID=Europe/Stockholm:20260618T180000
DTSTAMP:20260421T171456
CREATED:20251027T080117Z
LAST-MODIFIED:20251217T153526Z
UID:10726-1781802000-1781805600@odenasif.se
SUMMARY:Bordtennis - ungdomar
DESCRIPTION:Välkomna!
URL:https://odenasif.se/event/bordtennis-34/
LOCATION:Tallåsen\, Ödenäs 655\, Alingsås\, 441 95\, Sweden
CATEGORIES:Bordtennis,Tallåsen,Träningar
END:VEVENT
BEGIN:VEVENT
DTSTART;TZID=Europe/Stockholm:20260618T180000
DTEND;TZID=Europe/Stockholm:20260618T193000
DTSTAMP:20260421T171456
CREATED:20251217T154534Z
LAST-MODIFIED:20251217T154848Z
UID:13314-1781805600-1781811000@odenasif.se
SUMMARY:Bordtennis - vuxna
DESCRIPTION:Välkomna!
URL:https://odenasif.se/event/bordtennistraning-34/
LOCATION:Tallåsen\, Ödenäs 655\, Alingsås\, 441 95\, Sweden
CATEGORIES:Bordtennis,Tallåsen,Träningar
END:VEVENT
BEGIN:VEVENT
DTSTART;TZID=Europe/Stockholm:20260620T180000
DTEND;TZID=Europe/Stockholm:20260620T200000
DTSTAMP:20260421T171456
CREATED:20251026T215821Z
LAST-MODIFIED:20260112T074840Z
UID:10489-1781978400-1781985600@odenasif.se
SUMMARY:Herrbastu
DESCRIPTION:Varje lördag är Tallåsens herr-bastu öppen mellan kl. 18-20.\nBastuavgiften är 500:- per år eller 40:- per gång\, välkomna!
URL:https://odenasif.se/event/herrbastu-i-tallasen-29/
LOCATION:Tallåsen\, Ödenäs 655\, Alingsås\, 441 95\, Sweden
CATEGORIES:Tallåsen
END:VEVENT
BEGIN:VEVENT
DTSTART;TZID=Europe/Stockholm:20260621T190000
DTEND;TZID=Europe/Stockholm:20260621T200000
DTSTAMP:20260421T171456
CREATED:20260123T130046Z
LAST-MODIFIED:20260126T144251Z
UID:16633-1782068400-1782072000@odenasif.se
SUMMARY:Träning - Cirkelträning
DESCRIPTION:Barn och vuxna välkomna!
URL:https://odenasif.se/event/dans-styrka-cirkeltraning-34/
LOCATION:Tallåsen\, Ödenäs 655\, Alingsås\, 441 95\, Sweden
CATEGORIES:Dans,Styrka,Tallåsen,Träningar
END:VEVENT
BEGIN:VEVENT
DTSTART;TZID=Europe/Stockholm:20260622T170000
DTEND;TZID=Europe/Stockholm:20260622T180000
DTSTAMP:20260421T171456
CREATED:20251217T181559Z
LAST-MODIFIED:20251217T181559Z
UID:13439-1782147600-1782151200@odenasif.se
SUMMARY:Bordtennis - ungdomar
DESCRIPTION:Välkomna!
URL:https://odenasif.se/event/bordtennis-ungdomar-35/
LOCATION:Tallåsen\, Ödenäs 655\, Alingsås\, 441 95\, Sweden
CATEGORIES:Bordtennis,Tallåsen,Träningar
END:VEVENT
BEGIN:VEVENT
DTSTART;TZID=Europe/Stockholm:20260622T180000
DTEND;TZID=Europe/Stockholm:20260622T193000
DTSTAMP:20260421T171456
CREATED:20251217T180648Z
LAST-MODIFIED:20260120T134146Z
UID:13398-1782151200-1782156600@odenasif.se
SUMMARY:Bordtennis - seniorer
DESCRIPTION:Välkomna!
URL:https://odenasif.se/event/bordtennis-vuxna-35/
LOCATION:Tallåsen\, Ödenäs 655\, Alingsås\, 441 95\, Sweden
CATEGORIES:Bordtennis,Tallåsen,Träningar
END:VEVENT
BEGIN:VEVENT
DTSTART;TZID=Europe/Stockholm:20260623T173000
DTEND;TZID=Europe/Stockholm:20260623T181500
DTSTAMP:20260421T171456
CREATED:20251027T073013Z
LAST-MODIFIED:20251217T155443Z
UID:10620-1782235800-1782238500@odenasif.se
SUMMARY:Barnträning
DESCRIPTION:Barnträning-  åldrar 5-10 år  Vi leker\, övar på bollhantering och har roligt!
URL:https://odenasif.se/event/barntraning-35/
LOCATION:Tallåsen\, Ödenäs 655\, Alingsås\, 441 95\, Sweden
CATEGORIES:Barnträning,Tallåsen,Träningar
END:VEVENT
BEGIN:VEVENT
DTSTART;TZID=Europe/Stockholm:20260625T170000
DTEND;TZID=Europe/Stockholm:20260625T180000
DTSTAMP:20260421T171456
CREATED:20251027T080118Z
LAST-MODIFIED:20251217T153526Z
UID:10727-1782406800-1782410400@odenasif.se
SUMMARY:Bordtennis - ungdomar
DESCRIPTION:Välkomna!
URL:https://odenasif.se/event/bordtennis-35/
LOCATION:Tallåsen\, Ödenäs 655\, Alingsås\, 441 95\, Sweden
CATEGORIES:Bordtennis,Tallåsen,Träningar
END:VEVENT
BEGIN:VEVENT
DTSTART;TZID=Europe/Stockholm:20260625T180000
DTEND;TZID=Europe/Stockholm:20260625T193000
DTSTAMP:20260421T171456
CREATED:20251217T154535Z
LAST-MODIFIED:20251217T154848Z
UID:13315-1782410400-1782415800@odenasif.se
SUMMARY:Bordtennis - vuxna
DESCRIPTION:Välkomna!
URL:https://odenasif.se/event/bordtennistraning-35/
LOCATION:Tallåsen\, Ödenäs 655\, Alingsås\, 441 95\, Sweden
CATEGORIES:Bordtennis,Tallåsen,Träningar
END:VEVENT
BEGIN:VEVENT
DTSTART;TZID=Europe/Stockholm:20260627T180000
DTEND;TZID=Europe/Stockholm:20260627T200000
DTSTAMP:20260421T171456
CREATED:20251026T215821Z
LAST-MODIFIED:20260112T074840Z
UID:10490-1782583200-1782590400@odenasif.se
SUMMARY:Herrbastu
DESCRIPTION:Varje lördag är Tallåsens herr-bastu öppen mellan kl. 18-20.\nBastuavgiften är 500:- per år eller 40:- per gång\, välkomna!
URL:https://odenasif.se/event/herrbastu-i-tallasen-30/
LOCATION:Tallåsen\, Ödenäs 655\, Alingsås\, 441 95\, Sweden
CATEGORIES:Tallåsen
END:VEVENT
BEGIN:VEVENT
DTSTART;TZID=Europe/Stockholm:20260628T190000
DTEND;TZID=Europe/Stockholm:20260628T200000
DTSTAMP:20260421T171456
CREATED:20260123T130048Z
LAST-MODIFIED:20260126T144251Z
UID:16634-1782673200-1782676800@odenasif.se
SUMMARY:Träning - Cirkelträning
DESCRIPTION:Barn och vuxna välkomna!
URL:https://odenasif.se/event/dans-styrka-cirkeltraning-35/
LOCATION:Tallåsen\, Ödenäs 655\, Alingsås\, 441 95\, Sweden
CATEGORIES:Dans,Styrka,Tallåsen,Träningar
END:VEVENT
BEGIN:VEVENT
DTSTART;TZID=Europe/Stockholm:20260629T170000
DTEND;TZID=Europe/Stockholm:20260629T180000
DTSTAMP:20260421T171456
CREATED:20251217T181610Z
LAST-MODIFIED:20251217T181610Z
UID:13440-1782752400-1782756000@odenasif.se
SUMMARY:Bordtennis - ungdomar
DESCRIPTION:Välkomna!
URL:https://odenasif.se/event/bordtennis-ungdomar-36/
LOCATION:Tallåsen\, Ödenäs 655\, Alingsås\, 441 95\, Sweden
CATEGORIES:Bordtennis,Tallåsen,Träningar
END:VEVENT
BEGIN:VEVENT
DTSTART;TZID=Europe/Stockholm:20260629T180000
DTEND;TZID=Europe/Stockholm:20260629T193000
DTSTAMP:20260421T171456
CREATED:20251217T180658Z
LAST-MODIFIED:20260120T134146Z
UID:13399-1782756000-1782761400@odenasif.se
SUMMARY:Bordtennis - seniorer
DESCRIPTION:Välkomna!
URL:https://odenasif.se/event/bordtennis-vuxna-36/
LOCATION:Tallåsen\, Ödenäs 655\, Alingsås\, 441 95\, Sweden
CATEGORIES:Bordtennis,Tallåsen,Träningar
END:VEVENT
BEGIN:VEVENT
DTSTART;TZID=Europe/Stockholm:20260630T173000
DTEND;TZID=Europe/Stockholm:20260630T181500
DTSTAMP:20260421T171456
CREATED:20251027T073212Z
LAST-MODIFIED:20251217T155443Z
UID:10621-1782840600-1782843300@odenasif.se
SUMMARY:Barnträning
DESCRIPTION:Barnträning-  åldrar 5-10 år  Vi leker\, övar på bollhantering och har roligt!
URL:https://odenasif.se/event/barntraning-36/
LOCATION:Tallåsen\, Ödenäs 655\, Alingsås\, 441 95\, Sweden
CATEGORIES:Barnträning,Tallåsen,Träningar
END:VEVENT
BEGIN:VEVENT
DTSTART;TZID=Europe/Stockholm:20260702T170000
DTEND;TZID=Europe/Stockholm:20260702T180000
DTSTAMP:20260421T171456
CREATED:20251027T080143Z
LAST-MODIFIED:20251217T153526Z
UID:10729-1783011600-1783015200@odenasif.se
SUMMARY:Bordtennis - ungdomar
DESCRIPTION:Välkomna!
URL:https://odenasif.se/event/bordtennis-36/
LOCATION:Tallåsen\, Ödenäs 655\, Alingsås\, 441 95\, Sweden
CATEGORIES:Bordtennis,Tallåsen,Träningar
END:VEVENT
BEGIN:VEVENT
DTSTART;TZID=Europe/Stockholm:20260702T180000
DTEND;TZID=Europe/Stockholm:20260702T193000
DTSTAMP:20260421T171456
CREATED:20251217T154545Z
LAST-MODIFIED:20251217T154848Z
UID:13316-1783015200-1783020600@odenasif.se
SUMMARY:Bordtennis - vuxna
DESCRIPTION:Välkomna!
URL:https://odenasif.se/event/bordtennistraning-36/
LOCATION:Tallåsen\, Ödenäs 655\, Alingsås\, 441 95\, Sweden
CATEGORIES:Bordtennis,Tallåsen,Träningar
END:VEVENT
BEGIN:VEVENT
DTSTART;TZID=Europe/Stockholm:20260704T180000
DTEND;TZID=Europe/Stockholm:20260704T200000
DTSTAMP:20260421T171456
CREATED:20251026T215829Z
LAST-MODIFIED:20260112T074840Z
UID:10491-1783188000-1783195200@odenasif.se
SUMMARY:Herrbastu
DESCRIPTION:Varje lördag är Tallåsens herr-bastu öppen mellan kl. 18-20.\nBastuavgiften är 500:- per år eller 40:- per gång\, välkomna!
URL:https://odenasif.se/event/herrbastu-i-tallasen-31/
LOCATION:Tallåsen\, Ödenäs 655\, Alingsås\, 441 95\, Sweden
CATEGORIES:Tallåsen
END:VEVENT
BEGIN:VEVENT
DTSTART;TZID=Europe/Stockholm:20260705T190000
DTEND;TZID=Europe/Stockholm:20260705T200000
DTSTAMP:20260421T171456
CREATED:20260123T130053Z
LAST-MODIFIED:20260126T144251Z
UID:16635-1783278000-1783281600@odenasif.se
SUMMARY:Träning - Cirkelträning
DESCRIPTION:Barn och vuxna välkomna!
URL:https://odenasif.se/event/dans-styrka-cirkeltraning-36/
LOCATION:Tallåsen\, Ödenäs 655\, Alingsås\, 441 95\, Sweden
CATEGORIES:Dans,Styrka,Tallåsen,Träningar
END:VEVENT
END:VCALENDAR