BEGIN:VCALENDAR
VERSION:2.0
PRODID:-//Ödenäs Idrottsförening - ECPv6.15.20//NONSGML v1.0//EN
CALSCALE:GREGORIAN
METHOD:PUBLISH
X-WR-CALNAME:Ödenäs Idrottsförening
X-ORIGINAL-URL:https://odenasif.se
X-WR-CALDESC:Händelser för Ödenäs Idrottsförening
REFRESH-INTERVAL;VALUE=DURATION:PT1H
X-Robots-Tag:noindex
X-PUBLISHED-TTL:PT1H
BEGIN:VTIMEZONE
TZID:Europe/Stockholm
BEGIN:DAYLIGHT
TZOFFSETFROM:+0100
TZOFFSETTO:+0200
TZNAME:CEST
DTSTART:20250330T010000
END:DAYLIGHT
BEGIN:STANDARD
TZOFFSETFROM:+0200
TZOFFSETTO:+0100
TZNAME:CET
DTSTART:20251026T010000
END:STANDARD
BEGIN:DAYLIGHT
TZOFFSETFROM:+0100
TZOFFSETTO:+0200
TZNAME:CEST
DTSTART:20260329T010000
END:DAYLIGHT
BEGIN:STANDARD
TZOFFSETFROM:+0200
TZOFFSETTO:+0100
TZNAME:CET
DTSTART:20261025T010000
END:STANDARD
BEGIN:DAYLIGHT
TZOFFSETFROM:+0100
TZOFFSETTO:+0200
TZNAME:CEST
DTSTART:20270328T010000
END:DAYLIGHT
BEGIN:STANDARD
TZOFFSETFROM:+0200
TZOFFSETTO:+0100
TZNAME:CET
DTSTART:20271031T010000
END:STANDARD
END:VTIMEZONE
BEGIN:VEVENT
DTSTART;TZID=Europe/Stockholm:20260514T170000
DTEND;TZID=Europe/Stockholm:20260514T180000
DTSTAMP:20260421T135139
CREATED:20251027T080059Z
LAST-MODIFIED:20251217T153516Z
UID:10721-1778778000-1778781600@odenasif.se
SUMMARY:Bordtennis - ungdomar
DESCRIPTION:Välkomna!
URL:https://odenasif.se/event/bordtennis-29/
LOCATION:Tallåsen\, Ödenäs 655\, Alingsås\, 441 95\, Sweden
CATEGORIES:Bordtennis,Tallåsen,Träningar
END:VEVENT
BEGIN:VEVENT
DTSTART;TZID=Europe/Stockholm:20260514T180000
DTEND;TZID=Europe/Stockholm:20260514T193000
DTSTAMP:20260421T135139
CREATED:20251217T154518Z
LAST-MODIFIED:20251217T154834Z
UID:13309-1778781600-1778787000@odenasif.se
SUMMARY:Bordtennis - vuxna
DESCRIPTION:Välkomna!
URL:https://odenasif.se/event/bordtennistraning-29/
LOCATION:Tallåsen\, Ödenäs 655\, Alingsås\, 441 95\, Sweden
CATEGORIES:Bordtennis,Tallåsen,Träningar
END:VEVENT
BEGIN:VEVENT
DTSTART;TZID=Europe/Stockholm:20260516T180000
DTEND;TZID=Europe/Stockholm:20260516T200000
DTSTAMP:20260421T135139
CREATED:20251026T215811Z
LAST-MODIFIED:20260112T074832Z
UID:10484-1778954400-1778961600@odenasif.se
SUMMARY:Herrbastu
DESCRIPTION:Varje lördag är Tallåsens herr-bastu öppen mellan kl. 18-20.\nBastuavgiften är 500:- per år eller 40:- per gång\, välkomna!
URL:https://odenasif.se/event/herrbastu-i-tallasen-24/
LOCATION:Tallåsen\, Ödenäs 655\, Alingsås\, 441 95\, Sweden
CATEGORIES:Tallåsen
END:VEVENT
BEGIN:VEVENT
DTSTART;TZID=Europe/Stockholm:20260517T120000
DTEND;TZID=Europe/Stockholm:20260517T140000
DTSTAMP:20260421T135139
CREATED:20260113T190315Z
LAST-MODIFIED:20260113T190413Z
UID:15459-1779019200-1779026400@odenasif.se
SUMMARY:Gå på tur i Ödenäs
DESCRIPTION:Välkomna på Gå på tur i Ödenäs! \nKorv\, lotter och fika finns att köpa på plats.
URL:https://odenasif.se/event/ga-pa-tur-i-odenas-2/
CATEGORIES:Evenemang,Gå på tur
END:VEVENT
BEGIN:VEVENT
DTSTART;TZID=Europe/Stockholm:20260517T190000
DTEND;TZID=Europe/Stockholm:20260517T200000
DTSTAMP:20260421T135139
CREATED:20260123T130005Z
LAST-MODIFIED:20260126T144239Z
UID:16628-1779044400-1779048000@odenasif.se
SUMMARY:Träning - Cirkelträning
DESCRIPTION:Barn och vuxna välkomna!
URL:https://odenasif.se/event/dans-styrka-cirkeltraning-29/
LOCATION:Tallåsen\, Ödenäs 655\, Alingsås\, 441 95\, Sweden
CATEGORIES:Dans,Styrka,Tallåsen,Träningar
END:VEVENT
BEGIN:VEVENT
DTSTART;TZID=Europe/Stockholm:20260518T170000
DTEND;TZID=Europe/Stockholm:20260518T180000
DTSTAMP:20260421T135139
CREATED:20251217T181545Z
LAST-MODIFIED:20251217T181545Z
UID:13434-1779123600-1779127200@odenasif.se
SUMMARY:Bordtennis - ungdomar
DESCRIPTION:Välkomna!
URL:https://odenasif.se/event/bordtennis-ungdomar-30/
LOCATION:Tallåsen\, Ödenäs 655\, Alingsås\, 441 95\, Sweden
CATEGORIES:Bordtennis,Tallåsen,Träningar
END:VEVENT
BEGIN:VEVENT
DTSTART;TZID=Europe/Stockholm:20260518T180000
DTEND;TZID=Europe/Stockholm:20260518T193000
DTSTAMP:20260421T135139
CREATED:20251217T180634Z
LAST-MODIFIED:20260120T134136Z
UID:13393-1779127200-1779132600@odenasif.se
SUMMARY:Bordtennis - seniorer
DESCRIPTION:Välkomna!
URL:https://odenasif.se/event/bordtennis-vuxna-30/
LOCATION:Tallåsen\, Ödenäs 655\, Alingsås\, 441 95\, Sweden
CATEGORIES:Bordtennis,Tallåsen,Träningar
END:VEVENT
BEGIN:VEVENT
DTSTART;TZID=Europe/Stockholm:20260519T173000
DTEND;TZID=Europe/Stockholm:20260519T181500
DTSTAMP:20260421T135139
CREATED:20251027T072957Z
LAST-MODIFIED:20251217T155434Z
UID:10615-1779211800-1779214500@odenasif.se
SUMMARY:Barnträning
DESCRIPTION:Barnträning-  åldrar 5-10 år  Vi leker\, övar på bollhantering och har roligt!
URL:https://odenasif.se/event/barntraning-30/
LOCATION:Tallåsen\, Ödenäs 655\, Alingsås\, 441 95\, Sweden
CATEGORIES:Barnträning,Tallåsen,Träningar
END:VEVENT
BEGIN:VEVENT
DTSTART;TZID=Europe/Stockholm:20260521T170000
DTEND;TZID=Europe/Stockholm:20260521T180000
DTSTAMP:20260421T135139
CREATED:20251027T080059Z
LAST-MODIFIED:20251217T153516Z
UID:10722-1779382800-1779386400@odenasif.se
SUMMARY:Bordtennis - ungdomar
DESCRIPTION:Välkomna!
URL:https://odenasif.se/event/bordtennis-30/
LOCATION:Tallåsen\, Ödenäs 655\, Alingsås\, 441 95\, Sweden
CATEGORIES:Bordtennis,Tallåsen,Träningar
END:VEVENT
BEGIN:VEVENT
DTSTART;TZID=Europe/Stockholm:20260521T180000
DTEND;TZID=Europe/Stockholm:20260521T193000
DTSTAMP:20260421T135139
CREATED:20251217T154519Z
LAST-MODIFIED:20251217T154834Z
UID:13310-1779386400-1779391800@odenasif.se
SUMMARY:Bordtennis - vuxna
DESCRIPTION:Välkomna!
URL:https://odenasif.se/event/bordtennistraning-30/
LOCATION:Tallåsen\, Ödenäs 655\, Alingsås\, 441 95\, Sweden
CATEGORIES:Bordtennis,Tallåsen,Träningar
END:VEVENT
BEGIN:VEVENT
DTSTART;TZID=Europe/Stockholm:20260523T180000
DTEND;TZID=Europe/Stockholm:20260523T200000
DTSTAMP:20260421T135139
CREATED:20251026T215812Z
LAST-MODIFIED:20260112T074832Z
UID:10485-1779559200-1779566400@odenasif.se
SUMMARY:Herrbastu
DESCRIPTION:Varje lördag är Tallåsens herr-bastu öppen mellan kl. 18-20.\nBastuavgiften är 500:- per år eller 40:- per gång\, välkomna!
URL:https://odenasif.se/event/herrbastu-i-tallasen-25/
LOCATION:Tallåsen\, Ödenäs 655\, Alingsås\, 441 95\, Sweden
CATEGORIES:Tallåsen
END:VEVENT
BEGIN:VEVENT
DTSTART;TZID=Europe/Stockholm:20260524T190000
DTEND;TZID=Europe/Stockholm:20260524T200000
DTSTAMP:20260421T135139
CREATED:20260123T130007Z
LAST-MODIFIED:20260126T144239Z
UID:16629-1779649200-1779652800@odenasif.se
SUMMARY:Träning - Cirkelträning
DESCRIPTION:Barn och vuxna välkomna!
URL:https://odenasif.se/event/dans-styrka-cirkeltraning-30/
LOCATION:Tallåsen\, Ödenäs 655\, Alingsås\, 441 95\, Sweden
CATEGORIES:Dans,Styrka,Tallåsen,Träningar
END:VEVENT
BEGIN:VEVENT
DTSTART;TZID=Europe/Stockholm:20260525T170000
DTEND;TZID=Europe/Stockholm:20260525T180000
DTSTAMP:20260421T135139
CREATED:20251217T181555Z
LAST-MODIFIED:20251217T181555Z
UID:13435-1779728400-1779732000@odenasif.se
SUMMARY:Bordtennis - ungdomar
DESCRIPTION:Välkomna!
URL:https://odenasif.se/event/bordtennis-ungdomar-31/
LOCATION:Tallåsen\, Ödenäs 655\, Alingsås\, 441 95\, Sweden
CATEGORIES:Bordtennis,Tallåsen,Träningar
END:VEVENT
BEGIN:VEVENT
DTSTART;TZID=Europe/Stockholm:20260525T180000
DTEND;TZID=Europe/Stockholm:20260525T193000
DTSTAMP:20260421T135139
CREATED:20251217T180643Z
LAST-MODIFIED:20260120T134136Z
UID:13394-1779732000-1779737400@odenasif.se
SUMMARY:Bordtennis - seniorer
DESCRIPTION:Välkomna!
URL:https://odenasif.se/event/bordtennis-vuxna-31/
LOCATION:Tallåsen\, Ödenäs 655\, Alingsås\, 441 95\, Sweden
CATEGORIES:Bordtennis,Tallåsen,Träningar
END:VEVENT
BEGIN:VEVENT
DTSTART;TZID=Europe/Stockholm:20260526T173000
DTEND;TZID=Europe/Stockholm:20260526T181500
DTSTAMP:20260421T135139
CREATED:20251027T073011Z
LAST-MODIFIED:20251217T155434Z
UID:10616-1779816600-1779819300@odenasif.se
SUMMARY:Barnträning
DESCRIPTION:Barnträning-  åldrar 5-10 år  Vi leker\, övar på bollhantering och har roligt!
URL:https://odenasif.se/event/barntraning-31/
LOCATION:Tallåsen\, Ödenäs 655\, Alingsås\, 441 95\, Sweden
CATEGORIES:Barnträning,Tallåsen,Träningar
END:VEVENT
BEGIN:VEVENT
DTSTART;TZID=Europe/Stockholm:20260528T170000
DTEND;TZID=Europe/Stockholm:20260528T180000
DTSTAMP:20260421T135139
CREATED:20251027T080116Z
LAST-MODIFIED:20251217T153516Z
UID:10723-1779987600-1779991200@odenasif.se
SUMMARY:Bordtennis - ungdomar
DESCRIPTION:Välkomna!
URL:https://odenasif.se/event/bordtennis-31/
LOCATION:Tallåsen\, Ödenäs 655\, Alingsås\, 441 95\, Sweden
CATEGORIES:Bordtennis,Tallåsen,Träningar
END:VEVENT
BEGIN:VEVENT
DTSTART;TZID=Europe/Stockholm:20260528T180000
DTEND;TZID=Europe/Stockholm:20260528T193000
DTSTAMP:20260421T135139
CREATED:20251217T154530Z
LAST-MODIFIED:20251217T154834Z
UID:13311-1779991200-1779996600@odenasif.se
SUMMARY:Bordtennis - vuxna
DESCRIPTION:Välkomna!
URL:https://odenasif.se/event/bordtennistraning-31/
LOCATION:Tallåsen\, Ödenäs 655\, Alingsås\, 441 95\, Sweden
CATEGORIES:Bordtennis,Tallåsen,Träningar
END:VEVENT
BEGIN:VEVENT
DTSTART;TZID=Europe/Stockholm:20260530T180000
DTEND;TZID=Europe/Stockholm:20260530T200000
DTSTAMP:20260421T135139
CREATED:20251026T215819Z
LAST-MODIFIED:20260112T074832Z
UID:10486-1780164000-1780171200@odenasif.se
SUMMARY:Herrbastu
DESCRIPTION:Varje lördag är Tallåsens herr-bastu öppen mellan kl. 18-20.\nBastuavgiften är 500:- per år eller 40:- per gång\, välkomna!
URL:https://odenasif.se/event/herrbastu-i-tallasen-26/
LOCATION:Tallåsen\, Ödenäs 655\, Alingsås\, 441 95\, Sweden
CATEGORIES:Tallåsen
END:VEVENT
BEGIN:VEVENT
DTSTART;TZID=Europe/Stockholm:20260531T190000
DTEND;TZID=Europe/Stockholm:20260531T200000
DTSTAMP:20260421T135139
CREATED:20260123T130043Z
LAST-MODIFIED:20260126T144239Z
UID:16630-1780254000-1780257600@odenasif.se
SUMMARY:Träning - Cirkelträning
DESCRIPTION:Barn och vuxna välkomna!
URL:https://odenasif.se/event/dans-styrka-cirkeltraning-31/
LOCATION:Tallåsen\, Ödenäs 655\, Alingsås\, 441 95\, Sweden
CATEGORIES:Dans,Styrka,Tallåsen,Träningar
END:VEVENT
BEGIN:VEVENT
DTSTART;TZID=Europe/Stockholm:20260601T170000
DTEND;TZID=Europe/Stockholm:20260601T180000
DTSTAMP:20260421T135139
CREATED:20251217T181556Z
LAST-MODIFIED:20251217T181556Z
UID:13436-1780333200-1780336800@odenasif.se
SUMMARY:Bordtennis - ungdomar
DESCRIPTION:Välkomna!
URL:https://odenasif.se/event/bordtennis-ungdomar-32/
LOCATION:Tallåsen\, Ödenäs 655\, Alingsås\, 441 95\, Sweden
CATEGORIES:Bordtennis,Tallåsen,Träningar
END:VEVENT
BEGIN:VEVENT
DTSTART;TZID=Europe/Stockholm:20260601T180000
DTEND;TZID=Europe/Stockholm:20260601T193000
DTSTAMP:20260421T135139
CREATED:20251217T180644Z
LAST-MODIFIED:20260120T134146Z
UID:13395-1780336800-1780342200@odenasif.se
SUMMARY:Bordtennis - seniorer
DESCRIPTION:Välkomna!
URL:https://odenasif.se/event/bordtennis-vuxna-32/
LOCATION:Tallåsen\, Ödenäs 655\, Alingsås\, 441 95\, Sweden
CATEGORIES:Bordtennis,Tallåsen,Träningar
END:VEVENT
BEGIN:VEVENT
DTSTART;TZID=Europe/Stockholm:20260602T173000
DTEND;TZID=Europe/Stockholm:20260602T181500
DTSTAMP:20260421T135139
CREATED:20251027T073011Z
LAST-MODIFIED:20251217T155434Z
UID:10617-1780421400-1780424100@odenasif.se
SUMMARY:Barnträning
DESCRIPTION:Barnträning-  åldrar 5-10 år  Vi leker\, övar på bollhantering och har roligt!
URL:https://odenasif.se/event/barntraning-32/
LOCATION:Tallåsen\, Ödenäs 655\, Alingsås\, 441 95\, Sweden
CATEGORIES:Barnträning,Tallåsen,Träningar
END:VEVENT
BEGIN:VEVENT
DTSTART;TZID=Europe/Stockholm:20260604T170000
DTEND;TZID=Europe/Stockholm:20260604T180000
DTSTAMP:20260421T135139
CREATED:20251027T080116Z
LAST-MODIFIED:20251217T153516Z
UID:10724-1780592400-1780596000@odenasif.se
SUMMARY:Bordtennis - ungdomar
DESCRIPTION:Välkomna!
URL:https://odenasif.se/event/bordtennis-32/
LOCATION:Tallåsen\, Ödenäs 655\, Alingsås\, 441 95\, Sweden
CATEGORIES:Bordtennis,Tallåsen,Träningar
END:VEVENT
BEGIN:VEVENT
DTSTART;TZID=Europe/Stockholm:20260604T180000
DTEND;TZID=Europe/Stockholm:20260604T193000
DTSTAMP:20260421T135139
CREATED:20251217T154531Z
LAST-MODIFIED:20251217T154834Z
UID:13312-1780596000-1780601400@odenasif.se
SUMMARY:Bordtennis - vuxna
DESCRIPTION:Välkomna!
URL:https://odenasif.se/event/bordtennistraning-32/
LOCATION:Tallåsen\, Ödenäs 655\, Alingsås\, 441 95\, Sweden
CATEGORIES:Bordtennis,Tallåsen,Träningar
END:VEVENT
BEGIN:VEVENT
DTSTART;TZID=Europe/Stockholm:20260606T180000
DTEND;TZID=Europe/Stockholm:20260606T200000
DTSTAMP:20260421T135139
CREATED:20251026T215820Z
LAST-MODIFIED:20260112T074832Z
UID:10487-1780768800-1780776000@odenasif.se
SUMMARY:Herrbastu
DESCRIPTION:Varje lördag är Tallåsens herr-bastu öppen mellan kl. 18-20.\nBastuavgiften är 500:- per år eller 40:- per gång\, välkomna!
URL:https://odenasif.se/event/herrbastu-i-tallasen-27/
LOCATION:Tallåsen\, Ödenäs 655\, Alingsås\, 441 95\, Sweden
CATEGORIES:Tallåsen
END:VEVENT
BEGIN:VEVENT
DTSTART;TZID=Europe/Stockholm:20260607T190000
DTEND;TZID=Europe/Stockholm:20260607T200000
DTSTAMP:20260421T135139
CREATED:20260123T130044Z
LAST-MODIFIED:20260126T144239Z
UID:16631-1780858800-1780862400@odenasif.se
SUMMARY:Träning - Cirkelträning
DESCRIPTION:Barn och vuxna välkomna!
URL:https://odenasif.se/event/dans-styrka-cirkeltraning-32/
LOCATION:Tallåsen\, Ödenäs 655\, Alingsås\, 441 95\, Sweden
CATEGORIES:Dans,Styrka,Tallåsen,Träningar
END:VEVENT
BEGIN:VEVENT
DTSTART;TZID=Europe/Stockholm:20260608T170000
DTEND;TZID=Europe/Stockholm:20260608T180000
DTSTAMP:20260421T135139
CREATED:20251217T181557Z
LAST-MODIFIED:20251217T181557Z
UID:13437-1780938000-1780941600@odenasif.se
SUMMARY:Bordtennis - ungdomar
DESCRIPTION:Välkomna!
URL:https://odenasif.se/event/bordtennis-ungdomar-33/
LOCATION:Tallåsen\, Ödenäs 655\, Alingsås\, 441 95\, Sweden
CATEGORIES:Bordtennis,Tallåsen,Träningar
END:VEVENT
BEGIN:VEVENT
DTSTART;TZID=Europe/Stockholm:20260608T180000
DTEND;TZID=Europe/Stockholm:20260608T193000
DTSTAMP:20260421T135139
CREATED:20251217T180646Z
LAST-MODIFIED:20260120T134146Z
UID:13396-1780941600-1780947000@odenasif.se
SUMMARY:Bordtennis - seniorer
DESCRIPTION:Välkomna!
URL:https://odenasif.se/event/bordtennis-vuxna-33/
LOCATION:Tallåsen\, Ödenäs 655\, Alingsås\, 441 95\, Sweden
CATEGORIES:Bordtennis,Tallåsen,Träningar
END:VEVENT
BEGIN:VEVENT
DTSTART;TZID=Europe/Stockholm:20260609T173000
DTEND;TZID=Europe/Stockholm:20260609T181500
DTSTAMP:20260421T135139
CREATED:20251027T073012Z
LAST-MODIFIED:20251217T155443Z
UID:10618-1781026200-1781028900@odenasif.se
SUMMARY:Barnträning
DESCRIPTION:Barnträning-  åldrar 5-10 år  Vi leker\, övar på bollhantering och har roligt!
URL:https://odenasif.se/event/barntraning-33/
LOCATION:Tallåsen\, Ödenäs 655\, Alingsås\, 441 95\, Sweden
CATEGORIES:Barnträning,Tallåsen,Träningar
END:VEVENT
BEGIN:VEVENT
DTSTART;TZID=Europe/Stockholm:20260611T170000
DTEND;TZID=Europe/Stockholm:20260611T180000
DTSTAMP:20260421T135139
CREATED:20251027T080117Z
LAST-MODIFIED:20251217T153526Z
UID:10725-1781197200-1781200800@odenasif.se
SUMMARY:Bordtennis - ungdomar
DESCRIPTION:Välkomna!
URL:https://odenasif.se/event/bordtennis-33/
LOCATION:Tallåsen\, Ödenäs 655\, Alingsås\, 441 95\, Sweden
CATEGORIES:Bordtennis,Tallåsen,Träningar
END:VEVENT
END:VCALENDAR